BEGIN:VCALENDAR
VERSION:2.0
PRODID:Cal_App//Daily@Planet
METHOD:PUBLISH
BEGIN:VEVENT
DTSTART;TZID=CET:20250225T190000
DTEND;TZID=CET:20250225T200000
LOCATION: 
DTSTAMP:20260421T091600
SUMMARY:Instagram - 20 Tipps und Tricks für Deinen Business Account
URL;VALUE=URI:https://www.webgrrls.de/blog/event/instagram-20-tipps-und-tricks-fuer-deinen-business-account/
DESCRIPTION:Vortrag <strong>„Instagram – 20 Tipps für Deinen Business-Account“</strong> bekommt ihr Tipps, Hilfestellungen und grundlegende Informationen, damit ihr mit Eurem gewerblichen Instagram-Account im Jahr 2025 richtig durchstarten könnt. Es werden die typischen Stolpersteine bei der Arbeit mit einem gewerblichen Instagram-Account beleuchtet. Von der Profiloptimierung über den Content-Plan bis hin zur Erfolgsmessung – Sabine Nuffer hat wichtige Aspekte für Euch zusammengefasst.    Sabine Nuffer lebt und arbeitet als zertifizierte Social Media Managerin in der Grafschaft Bentheim. Sie berät seit 2013 in selbstständiger Tätigkeit kleine und mittelständische Firmen in ganz Deutschland und begleitet speziell EinsteigerInnen auf ihrem Weg durch das digitale Zeitalter. Sie ist eine begeisterte Netzwerkerin und setzt sich gerne für digital benachteiligte Menschen ein. s. sabine-nuffer.de    Der Vortrag findet online mit Zoom statt. Die Teilnahme ist kostenlos und nach Anmeldung möglich. Ein Kostenbeitrag ist freiwillig.  Anmeldung: Bitte per Mail an  stuttgart(at)webgrrls.de    Website: <a href="http://www.webgrrls-bw.de">http://www.webgrrls-bw.de</a>  E-Mail: <a href="mailto:stuttgart@webgrrls.de">stuttgart@webgrrls.de</a>
CLASS:PUBLIC
UID:1009
END:VEVENT
END:VCALENDAR
