BEGIN:VCALENDAR
VERSION:2.0
PRODID:Cal_App//Daily@Planet
METHOD:PUBLISH
BEGIN:VEVENT
DTSTART;TZID=CET:20230628T190000
DTEND;TZID=CET:20230628T200000
LOCATION: 
DTSTAMP:20260421T091500
SUMMARY:Wie das Gendern leicht gelingt
URL;VALUE=URI:https://www.webgrrls.de/blog/event/wie-das-gendern-leicht-gelingt/
DESCRIPTION:<strong>„Wie das Gendern leicht gelingt – Tipps aus der Praxis“</strong>    Gendern ist wichtig, weil Sprache Wirklichkeit schafft – packen wir’s an!  Was ist beim Genderndudenkonform?Ein Überblick über den aktuellen Stand Gender-Handwerkszeug: von Adjektiven, Konkretem, Paarformen unddemguten alten Verb. Was ist beim Gendern (noch) nicht erlaubt: Blick auf kreative Lösungen Speed-Gendern: Alle dürfen einen Satz gendern.    mit Andrea Görsch, freiberufliche Werbelektorin, Texterin, Autorin und Katja Rosenbohm, freiberufliche Werbelektorin, Autorin, Die Orthogräfin lektoriert seit vielen Jahren für Unternehmenund ist begeisterte Netzwerkerin. Gemeinsam haben sie 2021 das Buch „Wie Sie im Job korrekt schreiben“ herausgebracht.  s. auch: www.richtig-gut-schreiben.de und die-orthograefin.de    Der Vortrag findet online mit Zoom statt. Die Teilnahme ist kostenlos und nach Anmeldung möglich. Ein Kostenbeitrag ist freiwillig.  Bitte per Mail  stuttgart@webgrrls.de    E-Mail: <a href="mailto:stuttgart@webgrrls.de">stuttgart@webgrrls.de</a>
CLASS:PUBLIC
UID:1064
END:VEVENT
END:VCALENDAR
