BEGIN:VCALENDAR
VERSION:2.0
PRODID:Cal_App//Daily@Planet
METHOD:PUBLISH
BEGIN:VEVENT
DTSTART;TZID=CET:20260617T090000
DTEND;TZID=CET:20260617T110000
LOCATION: 
DTSTAMP:20260424T075300
SUMMARY:webgrrls-Frühstück in Pasing (offen für Gäste)
URL;VALUE=URI:https://www.webgrrls.de/blog/event/webgrrls-fruehstueck-offen-fuer-gaeste-1782-1812/
DESCRIPTION:Ein gemeinsamer Start in den Tag mit dem webgrrls-Frühstück: Zeit zum Netzwerken, um neue Webgrrls kennenzulernen, alte Bekannte wiederzutreffen, sich auszutauschen, eine Auszeit zu nehmen, lecker zu frühstücken – nicht nur für Selbstständige, sondern auch für Angestellte. Und gerne auch für Frauen, die unser Netzwerk kennenlernen wollen. Eine ideale Gelegenheit, mit uns webgrrls Kontakt aufzunehmen.    <a href="mailto:info@annaverenapost.de">Anmeldung per E-Mail zum Frühstück</a> bei Anna Verena Post
CLASS:PUBLIC
UID:1812
END:VEVENT
END:VCALENDAR
