BEGIN:VCALENDAR
VERSION:2.0
PRODID:Cal_App//Daily@Planet
METHOD:PUBLISH
BEGIN:VEVENT
DTSTART;TZID=CET:20251030T190000
DTEND;TZID=CET:20251030T203000
LOCATION: 
DTSTAMP:20260421T114500
SUMMARY:Fediverse: Social Media jenseits von Facebook, Instagram & Co
URL;VALUE=URI:https://www.webgrrls.de/blog/event/fediverse-social-media-jenseits-von-facebook-instagram-co/
DESCRIPTION:Egal ob Du schonmal von Mastodon oder Pixelfed gehört hast oder ob Dir die Vorstellung einer Social-Media-Welt jenseits der großen Konzerne völlig neu ist, und egal ob Du Instagram und Facebook magst oder Dir das alles sowieso zu anstrengend ist: wenn Du ein bisschen neugierig bist, kannst Du an diesem Abend einfach mal in eine andere Welt reinschnuppern!    Das Fediverse ist ein Knäuel aus alternativen sozialen Medienplattformen, die dezentral, ohne Werbung und ohne Algorithmen funktionieren. Was genau das bedeutet, erklären wir im ersten Teil dieses Workshops. Im Anschluss schauen wir uns konkret und beispielhaft einzelne Plattformen an und können - wenn Du möchtest - auch gleich zusammen Profile anlegen.    <strong>Das Workshop-Team besteht aus:</strong>  <ul>   	<li>Anna Kleiner (wer vorab was zum Thema lesen will, <a href="https://ezdwjg.clicks.mlsend.com/tj/cl/eyJ2Ijoie1wiYVwiOjc5NTYzOCxcImxcIjoxNjUzNTQ3NzkxNDY0NTQ1ODcsXCJyXCI6MTY1MzU0NzkwNjIyMDcwNzA0fSIsInMiOiI3NDFmNTBlYzg5NTliNGI1In0" data-link-id="165354779146454587">Anna hat dazu gebloggt</a>)</li>   	<li>Patrice Raies (Datenschutzfachfrau)</li>   	<li>Esther Debus-Gregor (Mastodon-Nutzerin und Fediverse Enthusiastin)</li>  </ul>  <strong>Anmeldung </strong>  <ul>   	<li>bis zum 28.10.2025</li>   	<li>über <a href="mailto:anmeldung@webgrrls.info?subject=Fediverse:%20Social%20Media%20jenseits%20von%20Facebook,%20Instagram%20&amp;%20Co">anmeldung@webgrrls.info</a></li>  </ul>
CLASS:PUBLIC
UID:1822
END:VEVENT
END:VCALENDAR
