BEGIN:VCALENDAR
VERSION:2.0
PRODID:Cal_App//Daily@Planet
METHOD:PUBLISH
BEGIN:VEVENT
DTSTART;TZID=CET:20260121T080000
DTEND;TZID=CET:20260121T093000
LOCATION: 
DTSTAMP:20260421T112500
SUMMARY:„Netzwerk-Impulse“ mit Futures Thinking
URL;VALUE=URI:https://www.webgrrls.de/blog/event/netzwerk-impulse-mit-futures-thinking/
DESCRIPTION:mit der neuen <strong>Online-Reihe „Netzwerk-Impulse“</strong> laden wir Sie ein, verschiedene <strong>Unternehmensnetzwerke und Initiativen</strong> aus der Region Stuttgart kennenzulernen – und in den <strong>Austausch</strong> zu gehen. webgrrls.de BW ist Mitorganisator der Veranstaltungsreihe des Unternehmernetzwerk der WRS Wirtschaftförderung der Region Stuttgart. weitere Termine siehe unten.    Netzwerke fördern die erfolgreiche Entwicklung von Unternehmen – z.B. durch neue Kontakte, Know-how und Expertenwissen oder den Erfahrungsaustausch auf Augenhöhe. In unserer neuen Veranstaltungsreihe organisiert jeweils ein „Netzwerk des Monats“ einen Termin. Ausgehend von einem spannenden Impulsvortrag zu aktuellen unternehmerischen Themenstellungen stellt sich das Netzwerk mit seinen Angeboten vor. Im Anschluss besteht die Möglichkeit, das Netzwerk sowie die weiteren beteiligten Netzwerke in digitalen Räumen näher kennen zu lernen und sich weiter auszutauschen.    Den vierten Termin trägt das Netzwerk webgrrls.de Baden-Württemberg bei  <strong>„Futures Thinking und Zukünftemethoden“</strong>    Referentin: Stella Smiljkovic, Gründerin von SMILLATECH – Tech Foresight &amp; Innovation Consulting und COO von Feedbacktime®, UNESCO Futures Literacy Lab Designer  <ul>   	<li>Was ist Futures Thinking und warum ist es eine Schlüsselkompetenz des 21. Jahrhunderts?</li>   	<li>Wie Sie Ihre Annahmen über die Zukunft sichtbar machen – und warum das wichtig ist.</li>   	<li>Wie Sie mit Unsicherheit strategisch umgehen, statt von Trends überrollt zu werden.</li>   	<li>Praktische Futures Werkzeuge, die Sie sofort anwenden können.</li>   	<li>Der Vortrag beinhaltet Unternehmensbeispiele und interaktive Mini-Übungen zum Mitmachen.</li>  </ul>  <strong>Ablauf:</strong>  <ul>   	<li>8:00-8:15: Begrüßung, Vorstellung des Formats und der beteiligten Netzwerke</li>   	<li>8:15-9:00: Impulsvortrag „Future Thinking und Zukünftemethoden“</li>   	<li>9:00-9:30: Kennenlernen der Netzwerke und Austausch in digitalen Räumen</li>  </ul>  <strong>Info und Anmeldung:  </strong>Die Teilnahme ist kostenfrei.  <a href="https://wrs.region-stuttgart.de/termine/netzwerk-impulse-teil-4-futurethinking/">wrs.region-stuttgart.de/termine/netzwerk-impulse-teil-4-futurethinking/</a>  und Link  <a href="http://wrs.region-stuttgart.de/termine/netzwerk-impulse-teil-4-futurethinking/" target="_blank" rel="noopener">wrs.region-stuttgart.de/termine/</a>  <ul>   	<li>11.02.2026; Cyber Security – Netzwerk: BVMW</li>   	<li>11.03.2026: Vereinbarkeit von Beruf und Familie  – Netzwerk: familyNET</li>   	<li>15.04.2026: Thema: Umwelt/Energie/Wasserwirtschaft  – Netzwerk: Wirtschaftsjunioren Region Stuttgart</li>   	<li>13.05.2026: Reparatur – Potenziale für Kleinunternehmen – Netzwerk: OMBW</li>  </ul>  <strong>Veranstalter:  </strong>Die Reihe wird von folgenden Netzwerken und Organisationen gemeinschaftlich veranstaltet: BNI, BVMW, familyNET, Offensive Mittelstand BW, Webgrrls.de e.V. Regio BW, Wirtschaftsjunioren Region Stuttgart, Wirtschaftsförderung Region Stuttgart
CLASS:PUBLIC
UID:1874
END:VEVENT
END:VCALENDAR
