BEGIN:VCALENDAR
VERSION:2.0
PRODID:Cal_App//Daily@Planet
METHOD:PUBLISH
BEGIN:VEVENT
DTSTART;TZID=CET:20260310T180000
DTEND;TZID=CET:20260310T193000
LOCATION: 
DTSTAMP:20260421T101400
SUMMARY:Klar. Einfach. Wirksam. Verständliche Sprache (nicht nur) fürs Web
URL;VALUE=URI:https://www.webgrrls.de/blog/event/klar-einfach-wirksam-verstaendliche-sprache-nicht-nur-fuers-web/
DESCRIPTION:Verständliche Sprache ist mehr als ein Stilmittel – sie ist ein Recht und ein zentraler Schlüssel für Teilhabe, gute Usability und wirksame Kommunikation. Doch was bedeutet „verständlich“ eigentlich? Und wie lässt sich das im beruflichen Alltag konkret umsetzen?    Wir beschäftigen uns mit dem Recht auf verständliche Sprache sowie mit den Unterschieden zwischen Leichter und Einfacher Sprache.    <strong>Unser Schwerpunkt liegt dabei auf der Einfachen Sprache:</strong>  <ul>   	<li>Welche Grundsätze helfen bei Wortwahl und Satzbau?</li>   	<li>Was macht Texte klarer und damit leichter erfassbar?</li>  </ul>  <strong>In Bezug auf Webtexte beschäftigen wir uns mit den Fragen:</strong>  <ul>   	<li>Wie unterstützen Layout und Struktur das Verstehen?</li>   	<li>Wie formulieren wir aussagekräftige Linktexte und hilfreiche Alt-Attribute?</li>  </ul>  Der Infoabend bietet neben fachlichem Input viel Raum für Diskussion, Fragen und Austausch – offen für alle, die Inhalte gestalten, prüfen, konzipieren oder veröffentlichen.    <strong>Referentinnen</strong>  <ul>   	<li><a href="https://www.acomi.de/" target="_blank" rel="noopener">Dorothea Winterling</a></li>   	<li><a href="https://www.carolinschwank.de/" target="_blank" rel="noopener">Carolin Schwank</a></li>  </ul>  <strong>Anmeldung </strong>  <ul>   	<li>über <a href="mailto:anmeldung@webgrrls.info?subject=Barrierefreie%20Inhalte%20für%20Websites">anmeldung@webgrrls.biz</a></li>  </ul>
CLASS:PUBLIC
UID:1884
END:VEVENT
END:VCALENDAR
