BEGIN:VCALENDAR
VERSION:2.0
PRODID:Cal_App//Daily@Planet
METHOD:PUBLISH
BEGIN:VEVENT
DTSTART;TZID=CET:20241219T190000
DTEND;TZID=CET:20241219T200000
LOCATION: 
DTSTAMP:20260421T091900
SUMMARY:In 5 Schritten zu professionellen Videos
URL;VALUE=URI:https://www.webgrrls.de/blog/event/in-5-schritten-zu-professionellen-videos/
DESCRIPTION:Christine Finger ist Video-Trainerin und unterstützt selbstständige Frauen dabei, professionelle Onlinekurs-Videos zu erstellen und ihre Angebote mit Videos zu bewerben, die zu ihnen passen.    Nach diesem Training weißt du,  <ul>   	<li>welche Hürden dich abhalten und die Lösungen.</li>   	<li>welche Technik du für deinen Start wirklich brauchst.</li>   	<li>wie du einen passenden Hintergrund findest (ohne zu renovieren).</li>   	<li>wie du dich vor der Kamera positionierst.</li>   	<li>wie du Licht setzt, mit dem du aussiehst wie nach einem Wellnesstag.</li>  </ul>  Christine hat ihre Expertise in mehr als 25 Jahren Videopraxis erworben, davon war sie 13 Jahre lang als Hörfunk- und Fernsehjournalistin für den WDR tätig. Sie produziert Filme für Öffentliche Auftraggeber*innen, Institutionen und Unternehmen und gibt ihre Strategien seit mehr als 2 Jahren in Onlinetrainings weiter.    <a href="http://www.christine-finger.de">www.christine-finger.de</a>    https://www.instagram.com/christine_finger/    https://www.linkedin.com/in/christine-finger-videotraining/    Der Vortrag findet online mit Zoom statt. Die Teilnahme ist kostenlos und nach Anmeldung möglich. Ein Kostenbeitrag ist freiwillig.  Anmeldung:  Bitte per Mail an  stuttgart@webgrrls.de
CLASS:PUBLIC
UID:889
END:VEVENT
END:VCALENDAR
